BEGIN:VCALENDAR
VERSION:2.0
PRODID:-//La Truite Stavelot Malmedy - ECPv6.15.17//NONSGML v1.0//EN
CALSCALE:GREGORIAN
METHOD:PUBLISH
X-WR-CALNAME:La Truite Stavelot Malmedy
X-ORIGINAL-URL:https://www.latruitestavelotmalmedy.be/nl/
X-WR-CALDESC:Evenementen voor La Truite Stavelot Malmedy
REFRESH-INTERVAL;VALUE=DURATION:PT1H
X-Robots-Tag:noindex
X-PUBLISHED-TTL:PT1H
BEGIN:VTIMEZONE
TZID:UTC
BEGIN:STANDARD
TZOFFSETFROM:+0000
TZOFFSETTO:+0000
TZNAME:UTC
DTSTART:20210101T000000
END:STANDARD
END:VTIMEZONE
BEGIN:VEVENT
DTSTART;VALUE=DATE:20231118
DTEND;VALUE=DATE:20231119
DTSTAMP:20260422T144503
CREATED:20230403T080533Z
LAST-MODIFIED:20230403T080533Z
UID:1546-1700265600-1700351999@www.latruitestavelotmalmedy.be
SUMMARY:Carnavalsoptocht in Stavelot
DESCRIPTION:
URL:https://www.latruitestavelotmalmedy.be/nl/event/carnavalsoptocht-in-stavelot/
END:VEVENT
BEGIN:VEVENT
DTSTART;VALUE=DATE:20231112
DTEND;VALUE=DATE:20231113
DTSTAMP:20260422T144503
CREATED:20230403T080532Z
LAST-MODIFIED:20230403T080532Z
UID:1542-1699747200-1699833599@www.latruitestavelotmalmedy.be
SUMMARY:Concours carnassiers aux étangs
DESCRIPTION:
URL:https://www.latruitestavelotmalmedy.be/nl/event/concours-carnassiers-aux-etangs-2/
END:VEVENT
BEGIN:VEVENT
DTSTART;VALUE=DATE:20231110
DTEND;VALUE=DATE:20231111
DTSTAMP:20260422T144503
CREATED:20230403T080531Z
LAST-MODIFIED:20230403T080531Z
UID:1537-1699574400-1699660799@www.latruitestavelotmalmedy.be
SUMMARY:Etangs-déversement brochets et blancs
DESCRIPTION:
URL:https://www.latruitestavelotmalmedy.be/nl/event/etangs-deversement-brochets-et-blancs-2/
END:VEVENT
BEGIN:VEVENT
DTSTART;VALUE=DATE:20230826
DTEND;VALUE=DATE:20230827
DTSTAMP:20260422T144503
CREATED:20230403T080529Z
LAST-MODIFIED:20230403T080529Z
UID:1534-1693008000-1693094399@www.latruitestavelotmalmedy.be
SUMMARY:Journée stage pêche au blanc + feeder aux étangs Stavelot et leurre rivière
DESCRIPTION:
URL:https://www.latruitestavelotmalmedy.be/nl/event/journee-stage-peche-au-blanc-feeder-aux-etangs-stavelot-et-leurre-riviere-2/
END:VEVENT
BEGIN:VEVENT
DTSTART;VALUE=DATE:20230820
DTEND;VALUE=DATE:20230821
DTSTAMP:20260422T144503
CREATED:20230403T080534Z
LAST-MODIFIED:20230403T080534Z
UID:1550-1692489600-1692575999@www.latruitestavelotmalmedy.be
SUMMARY:Nettoyage berges étangs
DESCRIPTION:
URL:https://www.latruitestavelotmalmedy.be/nl/event/nettoyage-berges-etangs-2/
END:VEVENT
BEGIN:VEVENT
DTSTART;VALUE=DATE:20230708
DTEND;VALUE=DATE:20230709
DTSTAMP:20260422T144503
CREATED:20230403T080533Z
LAST-MODIFIED:20230403T080533Z
UID:1545-1688774400-1688860799@www.latruitestavelotmalmedy.be
SUMMARY:Vlieg Amblève uitdaging
DESCRIPTION:
URL:https://www.latruitestavelotmalmedy.be/nl/event/vlieg-ambleve-uitdaging-2/
END:VEVENT
BEGIN:VEVENT
DTSTART;VALUE=DATE:20230611
DTEND;VALUE=DATE:20230612
DTSTAMP:20260422T144503
CREATED:20230403T080532Z
LAST-MODIFIED:20230403T080532Z
UID:1541-1686441600-1686527999@www.latruitestavelotmalmedy.be
SUMMARY:Manche championnat Belgique masters // Warche et petite Amblève
DESCRIPTION:
URL:https://www.latruitestavelotmalmedy.be/nl/event/manche-championnat-belgique-masters-warche-et-petite-ambleve/
END:VEVENT
BEGIN:VEVENT
DTSTART;VALUE=DATE:20230603
DTEND;VALUE=DATE:20230604
DTSTAMP:20260422T144503
CREATED:20230403T080531Z
LAST-MODIFIED:20230403T080531Z
UID:1538-1685750400-1685836799@www.latruitestavelotmalmedy.be
SUMMARY:Sortie club federatie vliegvisser
DESCRIPTION:
URL:https://www.latruitestavelotmalmedy.be/nl/event/sortie-club-federatie-vliegvisser/
END:VEVENT
BEGIN:VEVENT
DTSTART;VALUE=DATE:20230601
DTEND;VALUE=DATE:20230602
DTSTAMP:20260422T144503
CREATED:20230403T080529Z
LAST-MODIFIED:20230403T080529Z
UID:1533-1685577600-1685663999@www.latruitestavelotmalmedy.be
SUMMARY:Ouverture pêche étang
DESCRIPTION:
URL:https://www.latruitestavelotmalmedy.be/nl/event/ouverture-peche-etang-2/
END:VEVENT
BEGIN:VEVENT
DTSTART;TZID=UTC:20230528T090000
DTEND;TZID=UTC:20230528T170000
DTSTAMP:20260422T144503
CREATED:20230403T080534Z
LAST-MODIFIED:20230403T080534Z
UID:1551-1685264400-1685293200@www.latruitestavelotmalmedy.be
SUMMARY:Nettoyage berges étangs 9h
DESCRIPTION:
URL:https://www.latruitestavelotmalmedy.be/nl/event/nettoyage-berges-etangs-9h/
END:VEVENT
BEGIN:VEVENT
DTSTART;VALUE=DATE:20230506
DTEND;VALUE=DATE:20230507
DTSTAMP:20260422T144503
CREATED:20230403T080533Z
LAST-MODIFIED:20230403T080533Z
UID:1547-1683331200-1683417599@www.latruitestavelotmalmedy.be
SUMMARY:Journée stage pêche à la truite Malmedy étangs du Menhir + rivière rocher de Warche
DESCRIPTION:
URL:https://www.latruitestavelotmalmedy.be/nl/event/journee-stage-peche-a-la-truite-malmedy-etangs-du-menhir-riviere-rocher-de-warche/
END:VEVENT
BEGIN:VEVENT
DTSTART;VALUE=DATE:20230430
DTEND;VALUE=DATE:20230501
DTSTAMP:20260422T144503
CREATED:20230403T080532Z
LAST-MODIFIED:20230403T080532Z
UID:1543-1682812800-1682899199@www.latruitestavelotmalmedy.be
SUMMARY:Rivier kunstaas uitdaging
DESCRIPTION:
URL:https://www.latruitestavelotmalmedy.be/nl/event/rivier-kunstaas-uitdaging/
END:VEVENT
BEGIN:VEVENT
DTSTART;TZID=UTC:20230401T170000
DTEND;TZID=UTC:20230403T074639
DTSTAMP:20260422T144503
CREATED:20230403T080531Z
LAST-MODIFIED:20230403T080531Z
UID:1539-1680368400-1680507999@www.latruitestavelotmalmedy.be
SUMMARY:Ag extraordinaire wijzigingen statuten
DESCRIPTION:
URL:https://www.latruitestavelotmalmedy.be/nl/event/ag-extraordinaire-wijzigingen-statuten/
END:VEVENT
BEGIN:VEVENT
DTSTART;VALUE=DATE:20230318
DTEND;VALUE=DATE:20230319
DTSTAMP:20260422T144503
CREATED:20230403T080529Z
LAST-MODIFIED:20230403T080529Z
UID:1535-1679097600-1679183999@www.latruitestavelotmalmedy.be
SUMMARY:Ouverture de la truite en rivière
DESCRIPTION:
URL:https://www.latruitestavelotmalmedy.be/nl/event/ouverture-de-la-truite-en-riviere/
END:VEVENT
BEGIN:VEVENT
DTSTART;VALUE=DATE:20221119
DTEND;VALUE=DATE:20221120
DTSTAMP:20260422T144503
CREATED:20230403T080534Z
LAST-MODIFIED:20230403T080534Z
UID:1549-1668816000-1668902399@www.latruitestavelotmalmedy.be
SUMMARY:Carnivore koers bij Stavelot vijvers indien niet schoongemaakt
DESCRIPTION:
URL:https://www.latruitestavelotmalmedy.be/nl/event/carnivore-koers-bij-stavelot-vijvers-indien-niet-schoongemaakt/
END:VEVENT
BEGIN:VEVENT
DTSTART;VALUE=DATE:20221113
DTEND;VALUE=DATE:20221114
DTSTAMP:20260422T144503
CREATED:20230403T080529Z
LAST-MODIFIED:20230403T080529Z
UID:1536-1668297600-1668383999@www.latruitestavelotmalmedy.be
SUMMARY:Concurrentie van carnivoren in vijvers indien niet schoongemaakt
DESCRIPTION:
URL:https://www.latruitestavelotmalmedy.be/nl/event/concurrentie-van-carnivoren-in-vijvers-indien-niet-schoongemaakt/
END:VEVENT
BEGIN:VEVENT
DTSTART;VALUE=DATE:20220723
DTEND;VALUE=DATE:20220724
DTSTAMP:20260422T144503
CREATED:20230403T080531Z
LAST-MODIFIED:20230403T080531Z
UID:1540-1658534400-1658620799@www.latruitestavelotmalmedy.be
SUMMARY:Trainingsdag ijsvissen
DESCRIPTION:eendaagse cursus witvissen + feeder op de vijvers van Stavelot en rivieraas – verantwoordelijke Jérôme Léonard
URL:https://www.latruitestavelotmalmedy.be/nl/event/trainingsdag-ijsvissen/
END:VEVENT
BEGIN:VEVENT
DTSTART;VALUE=DATE:20220702
DTEND;VALUE=DATE:20220703
DTSTAMP:20260422T144503
CREATED:20230403T080532Z
LAST-MODIFIED:20230403T080532Z
UID:1544-1656720000-1656806399@www.latruitestavelotmalmedy.be
SUMMARY:Vlieg Amblève uitdaging
DESCRIPTION:
URL:https://www.latruitestavelotmalmedy.be/nl/event/vlieg-ambleve-uitdaging/
END:VEVENT
BEGIN:VEVENT
DTSTART;VALUE=DATE:20220612
DTEND;VALUE=DATE:20220613
DTSTAMP:20260422T144503
CREATED:20230403T080533Z
LAST-MODIFIED:20230403T080533Z
UID:1548-1654992000-1655078399@www.latruitestavelotmalmedy.be
SUMMARY:Belgisch kampioenschap vliegvissen ronde
DESCRIPTION:
URL:https://www.latruitestavelotmalmedy.be/nl/event/belgisch-kampioenschap-vliegvissen-ronde/
END:VEVENT
BEGIN:VEVENT
DTSTART;VALUE=DATE:20220601
DTEND;VALUE=DATE:20220602
DTSTAMP:20260422T144503
CREATED:20230403T080534Z
LAST-MODIFIED:20230403T080534Z
UID:1552-1654041600-1654127999@www.latruitestavelotmalmedy.be
SUMMARY:opening van de vijvervisserij
DESCRIPTION:
URL:https://www.latruitestavelotmalmedy.be/nl/event/opening-van-de-vijvervisserij/
END:VEVENT
END:VCALENDAR